BEGIN:VCALENDAR
VERSION:2.0
PRODID:-//Public Accountants and Auditors Board - ECPv6.15.20//NONSGML v1.0//EN
CALSCALE:GREGORIAN
METHOD:PUBLISH
X-ORIGINAL-URL:https://paab.org.zw
X-WR-CALDESC:Events for Public Accountants and Auditors Board
REFRESH-INTERVAL;VALUE=DURATION:PT1H
X-Robots-Tag:noindex
X-PUBLISHED-TTL:PT1H
BEGIN:VTIMEZONE
TZID:UTC
BEGIN:STANDARD
TZOFFSETFROM:+0000
TZOFFSETTO:+0000
TZNAME:UTC
DTSTART:20210101T000000
END:STANDARD
END:VTIMEZONE
BEGIN:VEVENT
DTSTART;TZID=UTC:20220405T090000
DTEND;TZID=UTC:20220405T120000
DTSTAMP:20260424T140757
CREATED:20220223T075335Z
LAST-MODIFIED:20220223T075335Z
UID:570-1649149200-1649160000@paab.org.zw
SUMMARY:Guidance in audit of lawyers trust accounts
DESCRIPTION:Round Table Meeting – Guidance in audit of lawyers trust accounts
URL:https://paab.org.zw/event/guidance-in-audit-of-lawyers-trust-accounts/
END:VEVENT
END:VCALENDAR