BEGIN:VCALENDAR
VERSION:2.0
PRODID:-//Public Accountants and Auditors Board - ECPv6.15.20//NONSGML v1.0//EN
CALSCALE:GREGORIAN
METHOD:PUBLISH
X-WR-CALNAME:Public Accountants and Auditors Board
X-ORIGINAL-URL:https://paab.org.zw
X-WR-CALDESC:Events for Public Accountants and Auditors Board
REFRESH-INTERVAL;VALUE=DURATION:PT1H
X-Robots-Tag:noindex
X-PUBLISHED-TTL:PT1H
BEGIN:VTIMEZONE
TZID:UTC
BEGIN:STANDARD
TZOFFSETFROM:+0000
TZOFFSETTO:+0000
TZNAME:UTC
DTSTART:20210101T000000
END:STANDARD
END:VTIMEZONE
BEGIN:VEVENT
DTSTART;TZID=UTC:20220224T090000
DTEND;TZID=UTC:20220224T120000
DTSTAMP:20260424T172207
CREATED:20220222T134317Z
LAST-MODIFIED:20220223T075523Z
UID:504-1645693200-1645704000@paab.org.zw
SUMMARY:PAAB Board Meeting
DESCRIPTION:PAAB 1st Quarter Board Meeting
URL:https://paab.org.zw/event/upcoming-event/
LOCATION:Meikles Hotel Harare
ATTACH;FMTTYPE=image/jpeg:https://paab.org.zw/wp-content/uploads/2021/04/6qpvWPau_400x400.jpg
END:VEVENT
END:VCALENDAR